BEGIN:VCALENDAR
VERSION:2.0
PRODID:-//jEvents 2.0 for Joomla//EN
CALSCALE:GREGORIAN
METHOD:PUBLISH
BEGIN:VTIMEZONE
TZID:Europe/Dublin
BEGIN:STANDARD
DTSTART:20170124T000000
RDATE:20170326T020000
TZOFFSETFROM:+0100
TZOFFSETTO:+0000
TZNAME:Europe/Dublin GMT
END:STANDARD
BEGIN:STANDARD
DTSTART:20171029T010000
RDATE:20180325T020000
TZOFFSETFROM:+0100
TZOFFSETTO:+0000
TZNAME:Europe/Dublin GMT
END:STANDARD
BEGIN:STANDARD
DTSTART:20181028T010000
RDATE:20190331T020000
TZOFFSETFROM:+0100
TZOFFSETTO:+0000
TZNAME:Europe/Dublin GMT
END:STANDARD
BEGIN:STANDARD
DTSTART:20191027T010000
RDATE:20200329T020000
TZOFFSETFROM:+0100
TZOFFSETTO:+0000
TZNAME:Europe/Dublin GMT
END:STANDARD
BEGIN:STANDARD
DTSTART:20201025T010000
RDATE:20210328T020000
TZOFFSETFROM:+0100
TZOFFSETTO:+0000
TZNAME:Europe/Dublin GMT
END:STANDARD
BEGIN:DAYLIGHT
DTSTART:20170326T020000
RDATE:20171029T010000
TZOFFSETFROM:+0000
TZOFFSETTO:+0100
TZNAME:Europe/Dublin IST
END:DAYLIGHT
BEGIN:DAYLIGHT
DTSTART:20180325T020000
RDATE:20181028T010000
TZOFFSETFROM:+0000
TZOFFSETTO:+0100
TZNAME:Europe/Dublin IST
END:DAYLIGHT
BEGIN:DAYLIGHT
DTSTART:20190331T020000
RDATE:20191027T010000
TZOFFSETFROM:+0000
TZOFFSETTO:+0100
TZNAME:Europe/Dublin IST
END:DAYLIGHT
BEGIN:DAYLIGHT
DTSTART:20200329T020000
RDATE:20201025T010000
TZOFFSETFROM:+0000
TZOFFSETTO:+0100
TZNAME:Europe/Dublin IST
END:DAYLIGHT
END:VTIMEZONE
BEGIN:VEVENT
UID:eb585c688e69b6c81c3f89d02d7e3424
CATEGORIES:Festivals
SUMMARY:Cask & Strange Brew Festival
DESCRIPTION;ENCODING=QUOTED-PRINTABLE:<p>	<span style="font-size:14px;"><span style="font-family:verdana,geneva,s
 ans-serif;">Franciscan Well Cask & Strange Brew Festival returns.</span></s
 pan></p><p>	<span style="font-size:14px;"><span style="font-family:verdana,
 geneva,sans-serif;"><b style="color: rgb(34, 34, 34); font-family: verdana,
  sans-serif; font-size: 12.8px;">Thursday the 25th of January to Saturday t
 he 27th of January. </b></span></span></p><p>	 </p>
DTSTAMP:20171107T175827Z
DTSTART;TZID=Europe/Dublin;VALUE=DATE:20180125
DTEND;TZID=Europe/Dublin;VALUE=DATE:20180129
SEQUENCE:0
TRANSP:OPAQUE
END:VEVENT
END:VCALENDAR